BEGIN:VCALENDAR
VERSION:2.0
PRODID:-//Musique des Cadets - ECPv4.5.13//NONSGML v1.0//EN
CALSCALE:GREGORIAN
METHOD:PUBLISH
X-WR-CALNAME:Musique des Cadets
X-ORIGINAL-URL:https://musiquedescadets.ch
X-WR-CALDESC:Events for Musique des Cadets
BEGIN:VEVENT
DTSTART;TZID=UTC+2:20180630T080000
DTEND;TZID=UTC+2:20180630T130000
DTSTAMP:20260420T044352
CREATED:20180226T212701Z
LAST-MODIFIED:20190501T200749Z
UID:2441-1530345600-1530363600@musiquedescadets.ch
SUMMARY:Défilé des Promotions
DESCRIPTION:Comme chaque année\, les Cadets auront l’occasion de défiler pendant les Promotions de l’école obligatoire de La Chaux-de-Fonds.\nCela se déroulera pendant la matinée du samedi 30 juin 2018.\nCe défilé sert à récolter des fonds que les écoles utiliseront pour venir en aide aux familles défavorisées. \nPlus de 3’000 élèves\, enseignants et musiciens n’attendent que vous ! \n
URL:https://musiquedescadets.ch/evenement-unique/defile-des-promotions/
LOCATION:Avenue Léopold-Robert / Rue de la Balance\, 2300 La Chaux-de-Fonds\, Neuchâtel\,\, Suisse
CATEGORIES:Excursions du groupe,Manifestations publiques,Réunions du groupe
END:VEVENT
END:VCALENDAR