BEGIN:VCALENDAR
VERSION:2.0
PRODID:-//Musique des Cadets - ECPv4.5.13//NONSGML v1.0//EN
CALSCALE:GREGORIAN
METHOD:PUBLISH
X-WR-CALNAME:Musique des Cadets
X-ORIGINAL-URL:https://musiquedescadets.ch
X-WR-CALDESC:Events for Musique des Cadets
BEGIN:VEVENT
DTSTART;VALUE=DATE:20190504
DTEND;VALUE=DATE:20190504
DTSTAMP:20260420T025350
CREATED:20190501T200246Z
LAST-MODIFIED:20190501T210554Z
UID:2471-1556928000-1557014399@musiquedescadets.ch
SUMMARY:Portes-Ouvertes du Conservatoire CDF
DESCRIPTION:La prochaine manifestation de la Musique des Cadets aura lieu le samedi 04 mai 2019 à 11h30 au Conservatoire de musique de La Chaux-de-Fonds. \nL’Ensemble de la Musique des Cadets et l’Ensemble Musicale des Jeunes s’unissent pour faire un concert à l’occasion des Portes-Ouvertes du Conservatoire. \nC’est une journée très spéciale qui permet à tout le monde de découvrir l’univers de la musique. Dans chaque salle se trouvera un professeur qui vous présentera son instrument que vous et/ou vos enfants pourrez essayer.  \nPleins de petits concerts se produiront également pendant la journée\, n’hésitez plus et laissez-vous guider par la musique !  \n
URL:https://musiquedescadets.ch/evenement-unique/portes-ouvertes-conservatoire-cdf/
LOCATION:Avenue Léopold-Robert 34\, 2300 La Chaux-de-Fonds\, Neuchâtel\,\, Suisse
CATEGORIES:Concerts en intérieur,Manifestations publiques
END:VEVENT
END:VCALENDAR